BEGIN:VCALENDAR
VERSION:2.0
PRODID:-//Martyna Zych - Conductor - ECPv6.7.0//NONSGML v1.0//EN
CALSCALE:GREGORIAN
METHOD:PUBLISH
X-WR-CALNAME:Martyna Zych - Conductor
X-ORIGINAL-URL:https://martynazych.com
X-WR-CALDESC:Events for Martyna Zych - Conductor
REFRESH-INTERVAL;VALUE=DURATION:PT1H
X-Robots-Tag:noindex
X-PUBLISHED-TTL:PT1H
BEGIN:VTIMEZONE
TZID:UTC
BEGIN:STANDARD
TZOFFSETFROM:+0000
TZOFFSETTO:+0000
TZNAME:UTC
DTSTART:20250101T000000
END:STANDARD
END:VTIMEZONE
BEGIN:VEVENT
DTSTART;TZID=UTC:20251116T110000
DTEND;TZID=UTC:20251116T120000
DTSTAMP:20260422T151128
CREATED:20250921T100935Z
LAST-MODIFIED:20250921T101834Z
UID:403-1763290800-1763294400@martynazych.com
SUMMARY:Young Music Lovers’ Academy
DESCRIPTION:Family Concert \n\n\n\nPerformers \n\n\n\n\nMartyna Zych – conductor\n\n\n\nSzczecin Philharmonic Orchestra\n\n\n\nPaulina Wojdyga – host
URL:https://martynazych.com/concert/young-music-lovers-academy/
END:VEVENT
BEGIN:VEVENT
DTSTART;TZID=UTC:20251130T160000
DTEND;TZID=UTC:20251130T170000
DTSTAMP:20260422T151128
CREATED:20250921T101509Z
LAST-MODIFIED:20250921T101510Z
UID:405-1764518400-1764522000@martynazych.com
SUMMARY:Fine Arts Camps Europe
DESCRIPTION:Advent Concert of the Czech Music Camp for Youth \n\n\n\nPerformers \n\n\n\n\nCzech Music Camp for Youth Orchestra\n\n\n\nConductor: Martyna Zych
URL:https://martynazych.com/concert/fine-arts-camps-europe-3/
END:VEVENT
END:VCALENDAR