BEGIN:VCALENDAR
VERSION:2.0
PRODID:-//Martyna Zych - Conductor - ECPv6.7.0//NONSGML v1.0//EN
CALSCALE:GREGORIAN
METHOD:PUBLISH
X-WR-CALNAME:Martyna Zych - Conductor
X-ORIGINAL-URL:https://martynazych.com
X-WR-CALDESC:Events for Martyna Zych - Conductor
REFRESH-INTERVAL;VALUE=DURATION:PT1H
X-Robots-Tag:noindex
X-PUBLISHED-TTL:PT1H
BEGIN:VTIMEZONE
TZID:UTC
BEGIN:STANDARD
TZOFFSETFROM:+0000
TZOFFSETTO:+0000
TZNAME:UTC
DTSTART:20250101T000000
END:STANDARD
END:VTIMEZONE
BEGIN:VEVENT
DTSTART;TZID=UTC:20251024T180000
DTEND;TZID=UTC:20251024T200000
DTSTAMP:20260422T170231
CREATED:20250921T095703Z
LAST-MODIFIED:20250921T100343Z
UID:396-1761328800-1761336000@martynazych.com
SUMMARY:75th Anniversary Jubilee of the Emil Młynarski Music School
DESCRIPTION:On the occasion of the 75th anniversary of the Emil Młynarski State General Music School\, we warmly invite you to a Jubilee Concert featuring the school’s Symphony Orchestra and Choir under the baton of Martyna Zych. \n\n\n\nProgramme: \n\n\n\n\nWitold Lutosławski – Children’s Songs\n\n\n\nAntonio Vivaldi – Concerto for Two Cellos in G minor\, RV 531
URL:https://martynazych.com/concert/75th-anniversary-jubilee-of-the-emil-mlynarski-music-school/
END:VEVENT
END:VCALENDAR